BEGIN:VCALENDAR
VERSION:2.0
PRODID:-//Platinum Partner - ECPv6.5.1.6//NONSGML v1.0//EN
CALSCALE:GREGORIAN
METHOD:PUBLISH
X-ORIGINAL-URL:https://platinumpartner.com.au
X-WR-CALDESC:Events for Platinum Partner
REFRESH-INTERVAL;VALUE=DURATION:PT1H
X-Robots-Tag:noindex
X-PUBLISHED-TTL:PT1H
BEGIN:VTIMEZONE
TZID:Australia/Melbourne
BEGIN:STANDARD
TZOFFSETFROM:+1100
TZOFFSETTO:+1000
TZNAME:AEST
DTSTART:20250405T160000
END:STANDARD
BEGIN:DAYLIGHT
TZOFFSETFROM:+1000
TZOFFSETTO:+1100
TZNAME:AEDT
DTSTART:20251004T160000
END:DAYLIGHT
END:VTIMEZONE
BEGIN:VEVENT
DTSTART;TZID=Australia/Melbourne:20250129T130000
DTEND;TZID=Australia/Melbourne:20250129T140000
DTSTAMP:20260422T161847
CREATED:20250108T063842Z
LAST-MODIFIED:20250113T034728Z
UID:10330-1738155600-1738159200@platinumpartner.com.au
SUMMARY:Closing Deals with Ease: Leveraging Lark for Real Estate Success
DESCRIPTION:Welcome to “Closing Deals with Ease: Leveraging Lark for Real Estate Success”!\nJoin us on Wed Jan 29 2025 at 1:00 PM (GMT+1000) for an online event that will revolutionize the way you do business in real estate. Learn how to use Lark to streamline your workflow\, communicate effectively with clients\, and close deals with ease. \nOur expert speaker will share their tips and tricks for leveraging this powerful tool to maximize your success in the real estate industry. Don’t miss out on this opportunity to take your business to the next level!
URL:https://platinumpartner.com.au/event/closing-deals-with-ease-leveraging-lark-for-real-estate-success/
LOCATION:Lark Platform
ATTACH;FMTTYPE=image/jpeg:https://platinumpartner.com.au/wp-content/uploads/2025/01/Image20250108143321.jpg
ORGANIZER;CN="Platinum Partner":MAILTO:info@platinumpartner.com.au
END:VEVENT
END:VCALENDAR