BEGIN:VCALENDAR
VERSION:2.0
PRODID:-//Platinum Partner - ECPv6.5.1.6//NONSGML v1.0//EN
CALSCALE:GREGORIAN
METHOD:PUBLISH
X-ORIGINAL-URL:https://platinumpartner.com.au
X-WR-CALDESC:Events for Platinum Partner
REFRESH-INTERVAL;VALUE=DURATION:PT1H
X-Robots-Tag:noindex
X-PUBLISHED-TTL:PT1H
BEGIN:VTIMEZONE
TZID:Australia/Melbourne
BEGIN:STANDARD
TZOFFSETFROM:+1100
TZOFFSETTO:+1000
TZNAME:AEST
DTSTART:20250405T160000
END:STANDARD
BEGIN:DAYLIGHT
TZOFFSETFROM:+1000
TZOFFSETTO:+1100
TZNAME:AEDT
DTSTART:20251004T160000
END:DAYLIGHT
END:VTIMEZONE
BEGIN:VEVENT
DTSTART;TZID=Australia/Melbourne:20250528T130000
DTEND;TZID=Australia/Melbourne:20250528T140000
DTSTAMP:20260422T221724
CREATED:20250403T062555Z
LAST-MODIFIED:20250805T021302Z
UID:11160-1748437200-1748440800@platinumpartner.com.au
SUMMARY:Bridge The Gap Between Sales And Operations Using Make
DESCRIPTION:Tired of data silos and workflow bottlenecks? Join us on our FREE online webinar ‘Bridge The Gap Between Sales and Operations Using Make\, a dynamic webinar showcasing how seamless integration can transform your business. 🔗We’ll dive into a practical\, real-world demonstration of connecting CRM\, Project Management\, and finance systems using Make.com\, revealing how to automate tedious tasks and create a unified\, efficient workflow. \nThis event is perfect for business owners\, operations managers\, and automation enthusiasts eager to unlock the true potential of their systems and drive significant operational improvements. 🚀 \nWebinar Highlights: \n✅Live Demonstration: Witness a clear\, step-by-step example of integrating key business systems. \n✅Practical Applications: Discover real-world use cases for automating sales\, operations\, and finance workflows. \n✅Efficiency Boost: Learn how to eliminate manual data entry and reduce errors\, saving valuable time and resources. \n✅Q&A Session: Get your specific questions answered by our Make expert consultants. \n✅Workflow optimization: Discover how to streamline your data flow between departments. \nEvent Info: \n📆 Date: May 28\, 2025 | Wednesday \n⏰ Time: 1:00 PM – 2:00 PM AEST | 11:00 AM – 12 NN PHT \n📹 Platform: Zoom \nRegister Here ▶️ https://www.eventbrite.com.au/e/bridge-the-gap-between-sales-and-operations-using-make-tickets-1311131352169?aff=Website \nRegister now to secure your spot and discover how to transform your business operations with Make! 💥Don’t miss this opportunity to streamline your workflows and drive growth.
URL:https://platinumpartner.com.au/event/bridge-the-gap-between-sales-and-operations-using-make/
LOCATION:Zoom
ATTACH;FMTTYPE=image/jpeg:https://platinumpartner.com.au/wp-content/uploads/2025/04/Make-Event-Banner-2.jpg
ORGANIZER;CN="Platinum Partner":MAILTO:info@platinumpartner.com.au
END:VEVENT
BEGIN:VEVENT
DTSTART;TZID=Australia/Melbourne:20250813T130000
DTEND;TZID=Australia/Melbourne:20250813T134500
DTSTAMP:20260422T221724
CREATED:20250731T012555Z
LAST-MODIFIED:20250805T043937Z
UID:11459-1755090000-1755092700@platinumpartner.com.au
SUMMARY:Discover ClickUp: The MOST Agile Project Management Platform
DESCRIPTION:Tired of using project management tools that just don’t cut it for Agile? \nJoin us for our exclusive webinar\, “Discover ClickUp: The MOST Agile Project Management Platform”\, and discover how to run sprints\, manage backlogs\, and improve team collaboration — all in one place. \n🎯 What You’ll Learn  \n✅ Step-by-step walkthrough of setting up Agile in ClickUp \n✅ How to manage sprints\, backlogs\, story points\, and velocity tracking \n✅ Live demo of sprint boards\, automations\, and dashboards \n✅ Insights into how ClickUp supports Agile across dev\, product\, and ops teams \n✅ Live Q&A with a Certified ClickUp Partner \n🎁 Bonus: All attendees get a FREE Agile ClickUp Template to fast-track their setup! \n  \n📅 Event Details \nDate: Wednesday\, August 13\, 2025\nTime: 1:00 PM – 1:45 PM AEST | 11:00 AM – 11:45 AM PHT\nPlatform: Zoom \nRegister Here ▶️ \n💥Don’t miss this opportunity to see why Agile really works in ClickUp. \nRSVP now to reserve your spot at this live event. \nWe can’t wait to see you there!
URL:https://platinumpartner.com.au/event/discover-clickup-the-most-agile-project-management-platform/
LOCATION:Zoom
CATEGORIES:ClickUp
ATTACH;FMTTYPE=image/jpeg:https://platinumpartner.com.au/wp-content/uploads/2025/07/Clickup-Banner-Webinar-1D.jpg
ORGANIZER;CN="Platinum Partner":MAILTO:info@platinumpartner.com.au
END:VEVENT
BEGIN:VEVENT
DTSTART;TZID=Australia/Melbourne:20250827T130000
DTEND;TZID=Australia/Melbourne:20250827T134500
DTSTAMP:20260422T221724
CREATED:20250805T032801Z
LAST-MODIFIED:20250805T032947Z
UID:11497-1756299600-1756302300@platinumpartner.com.au
SUMMARY:The Future of Work: AI-Driven Solutions in ClickUp
DESCRIPTION:Ready to unlock the next level of productivity with the power of AI? \nJoin us for our exclusive webinar\, “The Future of Work: AI-Driven Solutions in ClickUp”\, and discover how intelligent automation and AI tools are transforming the way teams plan\, execute\, and deliver work. \n🎯 What You’ll Learn \n✅ How AI is shaping the future of productivity and project management \n✅ Automate tasks\, generate content\, and get smart recommendations with ClickUp AI \n✅ Natural language prompts to speed up task creation and reporting \n✅ Real-world use cases that save time and improve decision-making \n✅ Live walkthrough of ClickUp AI in action \n✅ Expert tips to future-proof your workflows with AI \n  \n📅 Event Details \nDate: Wednesday\, August 27\, 2025\nTime: 1:00 PM – 1:45 PM AEST | 11:00 AM – 11:45 AM PHT\nPlatform: Zoom \nRegister Here ▶️ \n💥 Don’t miss this opportunity to discover how AI can supercharge your productivity inside ClickUp. \nRSVP now to secure your spot at this live event. \nWe can’t wait to see you there!
URL:https://platinumpartner.com.au/event/the-future-of-work-ai-driven-solutions-in-clickup/
LOCATION:Zoom
CATEGORIES:ClickUp
ATTACH;FMTTYPE=image/jpeg:https://platinumpartner.com.au/wp-content/uploads/2025/08/Clickup-Banner-Webinar-2D.jpg
ORGANIZER;CN="Platinum Partner":MAILTO:info@platinumpartner.com.au
END:VEVENT
BEGIN:VEVENT
DTSTART;TZID=Australia/Melbourne:20250910T130000
DTEND;TZID=Australia/Melbourne:20250910T134500
DTSTAMP:20260422T221724
CREATED:20250805T030416Z
LAST-MODIFIED:20250805T044030Z
UID:11489-1757509200-1757511900@platinumpartner.com.au
SUMMARY:Discover How to Build and Organize Your Workflows with ClickUp
DESCRIPTION:Is your team struggling with scattered tasks\, inefficient processes\, or missed deadlines?  \nUnlock a new level of productivity with ClickUp—the all-in-one project management and workflow automation platform. \nJoin our free ClickUp webinar\, “Discover How to Build and Organize Your Workflows with ClickUp\,” and learn how to: \n🗺️ Map out and visualize your ideal workflow\, step by step\n🗂️ Organize projects\, tasks\, and documents for total clarity\n🤖 Automate repetitive work and approvals to save valuable time\n📈 Scale and optimize your business processes as your team grows\n🤝 Keep everyone aligned and accountable\, every day \n✨ Experience a live demo\, get actionable tips\, and have your questions answered by a Certified ClickUp Partner. \n📅 Event Details\nDate: Wednesday\, September 10\, 2025\nTime: 1:00 PM – 1:45 PM AEST | 11:00 AM – 11:45 AM PHT\nPlatform: Zoom \nRegister Here ▶️ \n💥 Don’t miss this opportunity to discover how ClickUp can transform your workflows. \nRSVP now to reserve your spot at this live event. \nWe can’t wait to see you there!
URL:https://platinumpartner.com.au/event/discover-how-to-build-and-organize-your-workflows-with-clickup/
LOCATION:Zoom
CATEGORIES:ClickUp
ATTACH;FMTTYPE=image/jpeg:https://platinumpartner.com.au/wp-content/uploads/2025/08/Clickup-Banner-Webinar-3D.jpg
ORGANIZER;CN="Platinum Partner":MAILTO:info@platinumpartner.com.au
END:VEVENT
END:VCALENDAR