BEGIN:VCALENDAR
VERSION:2.0
PRODID:-//Platinum Partner - ECPv6.5.1.6//NONSGML v1.0//EN
CALSCALE:GREGORIAN
METHOD:PUBLISH
X-ORIGINAL-URL:https://platinumpartner.com.au
X-WR-CALDESC:Events for Platinum Partner
REFRESH-INTERVAL;VALUE=DURATION:PT1H
X-Robots-Tag:noindex
X-PUBLISHED-TTL:PT1H
BEGIN:VTIMEZONE
TZID:Australia/Melbourne
BEGIN:STANDARD
TZOFFSETFROM:+1100
TZOFFSETTO:+1000
TZNAME:AEST
DTSTART:20240406T160000
END:STANDARD
BEGIN:DAYLIGHT
TZOFFSETFROM:+1000
TZOFFSETTO:+1100
TZNAME:AEDT
DTSTART:20241005T160000
END:DAYLIGHT
END:VTIMEZONE
BEGIN:VEVENT
DTSTART;TZID=Australia/Melbourne:20241031T150000
DTEND;TZID=Australia/Melbourne:20241031T160000
DTSTAMP:20260422T204710
CREATED:20240410T062212Z
LAST-MODIFIED:20241106T092310Z
UID:5101-1730386800-1730390400@platinumpartner.com.au
SUMMARY:Sync Up Data System with Make
DESCRIPTION:𝐌𝐚𝐤𝐞 𝐲𝐨𝐮𝐫 𝐝𝐚𝐭𝐚 𝐬𝐢𝐧𝐠 𝐚𝐬 𝐲𝐨𝐮 𝐞𝐱𝐩𝐞𝐫𝐢𝐞𝐧𝐜𝐞 𝐬𝐞𝐚𝐦𝐥𝐞𝐬𝐬 𝐢𝐧𝐭𝐞𝐠𝐫𝐚𝐭𝐢𝐨𝐧 𝐰𝐢𝐭𝐡 𝐌𝐚𝐤𝐞. 𝐉𝐨𝐢𝐧 𝐭𝐡𝐞 “𝐒𝐲𝐧𝐜 𝐔𝐩 𝐃𝐚𝐭𝐚 𝐒𝐲𝐬𝐭𝐞𝐦 𝐰𝐢𝐭𝐡 𝐌𝐚𝐤𝐞” 𝐨𝐧𝐥𝐢𝐧𝐞 𝐞𝐯𝐞𝐧𝐭!\n𝐄𝐯𝐞𝐧𝐭 𝐎𝐯𝐞𝐫𝐯𝐢𝐞𝐰:\nUnleash the full power of Make\, the integration platform that connects your favorite applications and automates workflows\, in our FREE 1-hour webinar. This session caters to both beginners and experts\, diving into advanced functionalities like conditional logic\, loops\, and error handling to build complex Make scenarios. We’ll also explore best practices for optimizing workflows\, handling large data volumes\, and integrating Make with your favorite apps or popular data platforms for a comprehensive data management system. Register now to become a Make expert and streamline your data integrations! \n𝐄𝐯𝐞𝐧𝐭 𝐃𝐞𝐭𝐚𝐢𝐥𝐬:\nData: September 28\, 2024\, Tuesday \nTime: 3:00 PM (AEST) \nPlatform: Zoom \nSpeaker: Mr. Martin Schwall\, Platinum Partner Director \n𝐄𝐯𝐞𝐧𝐭 𝐇𝐢𝐠𝐡𝐥𝐢𝐠𝐡𝐭𝐬:\n\n𝐈𝐧𝐭𝐫𝐨𝐝𝐮𝐜𝐭𝐢𝐨𝐧 𝐭𝐨 𝐃𝐚𝐭𝐚 𝐀𝐮𝐭𝐨𝐦𝐚𝐭𝐢𝐨𝐧 𝐰𝐢𝐭𝐡 𝐌𝐚𝐤𝐞: We’ll cover the basics of Make\, including creating scenarios\, connecting apps\, and using modules.\n𝐒𝐭𝐫𝐞𝐚𝐦𝐥𝐢𝐧𝐢𝐧𝐠 𝐘𝐨𝐮𝐫 𝐖𝐨𝐫𝐤𝐟𝐥𝐨𝐰: Our Make expert will show a practical application of Make for data synchronization between various systems.\n𝐏𝐨𝐰𝐞𝐫 𝐔𝐩 𝐘𝐨𝐮𝐫 𝐈𝐧𝐭𝐞𝐠𝐫𝐚𝐭𝐢𝐨𝐧: We’ll delve into advanced Make functionalities like conditional logic\, loops\, and error handling for complex data integration.\n𝐎𝐩𝐭𝐢𝐦𝐢𝐳𝐢𝐧𝐠 𝐏𝐞𝐫𝐟𝐨𝐫𝐦𝐚𝐧𝐜𝐞: Our Make expert will provide best practices for optimizing Make workflows to handle large data volumes and ensure smooth operation.\n𝐌𝐚𝐤𝐞 & 𝐃𝐚𝐭𝐚 𝐄𝐜𝐨𝐬𝐲𝐬𝐭𝐞𝐦: We’ll explore how to integrate Make with popular data platforms for comprehensive data management.\n𝐐&𝐀 𝐒𝐞𝐬𝐬𝐢𝐨𝐧: We allocate time for your questions and give you deeper insights into Make’s functionalities and features. Get expert advice on how to tailor this robust software automation platform to your specific workflow needs.\n\nDon’t miss this opportunity to take control of your data and unlock the power of Automation! \n𝐑𝐞𝐠𝐢𝐬𝐭𝐞𝐫 𝐍𝐨𝐰: Sync Up Data System with Make \n𝐒𝐩𝐚𝐜𝐞 𝐢𝐬 𝐥𝐢𝐦𝐢𝐭𝐞𝐝\, 𝐬𝐨 𝐫𝐞𝐠𝐢𝐬𝐭𝐞𝐫 𝐭𝐨𝐝𝐚𝐲!
URL:https://platinumpartner.com.au/event/sync-up-data-system-with-make/
LOCATION:Zoom
ATTACH;FMTTYPE=image/webp:https://platinumpartner.com.au/wp-content/uploads/2024/04/Sync-up-data-system-with-make-event.webp
ORGANIZER;CN="Platinum Partner":MAILTO:info@platinumpartner.com.au
END:VEVENT
END:VCALENDAR